BEGIN:VCALENDAR
VERSION:2.0
PRODID:-//wp-events-plugin.com//7.2.3.1//EN
BEGIN:VEVENT
UID:2@vrajmatrimony.com
DTSTART;TZID=Pacific/Easter:20251108T173000
DTEND;TZID=Pacific/Easter:20251108T213000
DTSTAMP:20251009T150533Z
URL:https://vrajmatrimony.com/events/registration/
SUMMARY:Registration
DESCRIPTION:
ATTACH;FMTTYPE=image/jpeg:https://vrajmatrimony.com/wp-content/uploads/202
 4/09/event.jpeg
LOCATION:Brampton Triveni Mandir\, Brampton Triveni Mandir\, 20\, Daviselm 
 Drive\, Brampton\, ON - L6X 0E6\, Brampton\, Canada
X-APPLE-STRUCTURED-LOCATION;VALUE=URI;X-ADDRESS=Brampton Triveni Mandir\, 2
 0\, Daviselm Drive\, Brampton\, ON - L6X 0E6\, Brampton\, Canada;X-APPLE-R
 ADIUS=100;X-TITLE=Brampton Triveni Mandir:geo:0,0
END:VEVENT
BEGIN:VTIMEZONE
TZID:Pacific/Easter
X-LIC-LOCATION:Pacific/Easter
BEGIN:DAYLIGHT
DTSTART:20250906T230000
TZOFFSETFROM:-0600
TZOFFSETTO:-0500
TZNAME:-05
END:DAYLIGHT
END:VTIMEZONE
END:VCALENDAR